Package: SpikeInSubset Version: 1.51.0 Command: /home/biocbuild/bbs-3.23-bioc/R/bin/R CMD check --install=check:SpikeInSubset.install-out.txt --library=/home/biocbuild/bbs-3.23-bioc/R/site-library --timings SpikeInSubset_1.51.0.tar.gz StartedAt: 2025-11-20 13:15:21 -0500 (Thu, 20 Nov 2025) EndedAt: 2025-11-20 13:17:04 -0500 (Thu, 20 Nov 2025) EllapsedTime: 102.9 seconds RetCode: 0 Status: WARNINGS CheckDir: SpikeInSubset.Rcheck Warnings: 3