Package: SpikeInSubset Version: 1.51.0 Command: /home/biocbuild/bbs-3.23-bioc/R/bin/R CMD build --keep-empty-dirs --no-resave-data SpikeInSubset StartedAt: 2025-11-20 11:45:00 -0500 (Thu, 20 Nov 2025) EndedAt: 2025-11-20 11:45:04 -0500 (Thu, 20 Nov 2025) EllapsedTime: 3.7 seconds RetCode: 0 Status: OK PackageFile: SpikeInSubset_1.51.0.tar.gz PackageFileSize: 17.99 MiB