Package: SomatiCAData Version: 1.49.0 Command: /home/biocbuild/bbs-3.23-bioc/R/bin/R CMD check --install=check:SomatiCAData.install-out.txt --library=/home/biocbuild/bbs-3.23-bioc/R/site-library --timings SomatiCAData_1.49.0.tar.gz StartedAt: 2025-11-13 13:08:02 -0500 (Thu, 13 Nov 2025) EndedAt: 2025-11-13 13:10:32 -0500 (Thu, 13 Nov 2025) EllapsedTime: 150.1 seconds RetCode: 0 Status: WARNINGS CheckDir: SomatiCAData.Rcheck Warnings: 2