Package: SNAGEEdata Version: 1.47.0 Command: /home/biocbuild/bbs-3.23-bioc/R/bin/R CMD build --keep-empty-dirs --no-resave-data SNAGEEdata StartedAt: 2025-11-18 11:44:19 -0500 (Tue, 18 Nov 2025) EndedAt: 2025-11-18 11:44:22 -0500 (Tue, 18 Nov 2025) EllapsedTime: 3.0 seconds RetCode: 0 Status: OK PackageFile: SNAGEEdata_1.47.0.tar.gz PackageFileSize: 29.22 MiB