Package: SNAData Version: 1.57.0 Command: /home/biocbuild/bbs-3.23-bioc/R/bin/R CMD check --install=check:SNAData.install-out.txt --library=/home/biocbuild/bbs-3.23-bioc/R/site-library --timings SNAData_1.57.0.tar.gz StartedAt: 2025-11-18 13:08:48 -0500 (Tue, 18 Nov 2025) EndedAt: 2025-11-18 13:09:32 -0500 (Tue, 18 Nov 2025) EllapsedTime: 43.1 seconds RetCode: 0 Status: OK CheckDir: SNAData.Rcheck Warnings: 0