Package: RforProteomics Version: 1.49.0 Command: /home/biocbuild/bbs-3.23-bioc/R/bin/R CMD INSTALL RforProteomics StartedAt: 2025-11-18 11:00:25 -0500 (Tue, 18 Nov 2025) EndedAt: 2025-11-18 11:01:01 -0500 (Tue, 18 Nov 2025) EllapsedTime: 36.2 seconds RetCode: 0 Status: OK