Package: RegParallel Version: 1.29.0 Command: /home/biocbuild/bbs-3.23-bioc/R/bin/R CMD check --install=check:RegParallel.install-out.txt --library=/home/biocbuild/bbs-3.23-bioc/R/site-library --timings RegParallel_1.29.0.tar.gz StartedAt: 2025-11-18 12:57:20 -0500 (Tue, 18 Nov 2025) EndedAt: 2025-11-18 13:06:03 -0500 (Tue, 18 Nov 2025) EllapsedTime: 523.2 seconds RetCode: 0 Status: OK CheckDir: RegParallel.Rcheck Warnings: 0