Package: RUVnormalizeData Version: 1.31.0 Command: /home/biocbuild/bbs-3.23-bioc/R/bin/R CMD INSTALL RUVnormalizeData StartedAt: 2025-11-18 10:56:10 -0500 (Tue, 18 Nov 2025) EndedAt: 2025-11-18 10:56:13 -0500 (Tue, 18 Nov 2025) EllapsedTime: 2.2 seconds RetCode: 0 Status: OK