Package: RTCGA.clinical Version: 20151101.41.0 Command: /home/biocbuild/bbs-3.23-bioc/R/bin/R CMD INSTALL RTCGA.clinical StartedAt: 2025-11-18 11:04:20 -0500 (Tue, 18 Nov 2025) EndedAt: 2025-11-18 11:05:02 -0500 (Tue, 18 Nov 2025) EllapsedTime: 42.0 seconds RetCode: 0 Status: OK