Package: RTCGA.PANCAN12 Version: 1.39.0 Command: /home/biocbuild/bbs-3.23-bioc/R/bin/R CMD build --keep-empty-dirs --no-resave-data RTCGA.PANCAN12 StartedAt: 2025-11-18 11:40:33 -0500 (Tue, 18 Nov 2025) EndedAt: 2025-11-18 11:40:57 -0500 (Tue, 18 Nov 2025) EllapsedTime: 24.3 seconds RetCode: 0 Status: OK PackageFile: RTCGA.PANCAN12_1.39.0.tar.gz PackageFileSize: 213.9 MiB