Package: RITANdata Version: 1.35.0 Command: /home/biocbuild/bbs-3.23-bioc/R/bin/R CMD INSTALL RITANdata StartedAt: 2025-11-18 10:55:27 -0500 (Tue, 18 Nov 2025) EndedAt: 2025-11-18 10:56:02 -0500 (Tue, 18 Nov 2025) EllapsedTime: 34.8 seconds RetCode: 0 Status: OK