Package: PasillaTranscriptExpr Version: 1.39.0 Command: /home/biocbuild/bbs-3.23-bioc/R/bin/R CMD build --keep-empty-dirs --no-resave-data PasillaTranscriptExpr StartedAt: 2025-11-18 11:35:44 -0500 (Tue, 18 Nov 2025) EndedAt: 2025-11-18 11:36:00 -0500 (Tue, 18 Nov 2025) EllapsedTime: 16.6 seconds RetCode: 0 Status: OK PackageFile: PasillaTranscriptExpr_1.39.0.tar.gz PackageFileSize: 784.3 KiB