Package: PWMEnrich.Hsapiens.background Version: 4.45.0 Command: /home/biocbuild/bbs-3.23-bioc/R/bin/R CMD INSTALL PWMEnrich.Hsapiens.background StartedAt: 2025-11-18 10:57:39 -0500 (Tue, 18 Nov 2025) EndedAt: 2025-11-18 10:57:44 -0500 (Tue, 18 Nov 2025) EllapsedTime: 5.8 seconds RetCode: 0 Status: OK