Package: PWMEnrich.Dmelanogaster.background Version: 4.45.0 Command: /home/biocbuild/bbs-3.23-bioc/R/bin/R CMD check --install=check:PWMEnrich.Dmelanogaster.background.install-out.txt --library=/home/biocbuild/bbs-3.23-bioc/R/site-library --timings PWMEnrich.Dmelanogaster.background_4.45.0.tar.gz StartedAt: 2025-11-13 12:55:15 -0500 (Thu, 13 Nov 2025) EndedAt: 2025-11-13 12:56:17 -0500 (Thu, 13 Nov 2025) EllapsedTime: 61.5 seconds RetCode: 0 Status: OK CheckDir: PWMEnrich.Dmelanogaster.background.Rcheck Warnings: 0