Package: OnassisJavaLibs Version: 1.33.0 Command: /home/biocbuild/bbs-3.23-bioc/R/bin/R CMD INSTALL OnassisJavaLibs StartedAt: 2025-11-18 10:56:03 -0500 (Tue, 18 Nov 2025) EndedAt: 2025-11-18 10:56:06 -0500 (Tue, 18 Nov 2025) EllapsedTime: 2.8 seconds RetCode: 0 Status: OK