Package: ObMiTi Version: 1.19.0 Command: /home/biocbuild/bbs-3.23-bioc/R/bin/R CMD INSTALL ObMiTi StartedAt: 2025-11-18 10:58:34 -0500 (Tue, 18 Nov 2025) EndedAt: 2025-11-18 10:58:59 -0500 (Tue, 18 Nov 2025) EllapsedTime: 25.0 seconds RetCode: 0 Status: OK