Package: ObMiTi Version: 1.19.0 Command: /home/biocbuild/bbs-3.23-bioc/R/bin/R CMD check --install=check:ObMiTi.install-out.txt --library=/home/biocbuild/bbs-3.23-bioc/R/site-library --timings ObMiTi_1.19.0.tar.gz StartedAt: 2025-11-13 12:50:45 -0500 (Thu, 13 Nov 2025) EndedAt: 2025-11-13 12:53:48 -0500 (Thu, 13 Nov 2025) EllapsedTime: 182.7 seconds RetCode: 0 Status: OK CheckDir: ObMiTi.Rcheck Warnings: 0