Package: ObMiTi Version: 1.19.0 Command: /home/biocbuild/bbs-3.23-bioc/R/bin/R CMD build --keep-empty-dirs --no-resave-data ObMiTi StartedAt: 2025-11-18 11:34:54 -0500 (Tue, 18 Nov 2025) EndedAt: 2025-11-18 11:35:34 -0500 (Tue, 18 Nov 2025) EllapsedTime: 40.0 seconds RetCode: 0 Status: OK PackageFile: ObMiTi_1.19.0.tar.gz PackageFileSize: 46.73 KiB