Package: NxtIRFdata Version: 1.17.0 Command: /home/biocbuild/bbs-3.23-bioc/R/bin/R CMD check --install=check:NxtIRFdata.install-out.txt --library=/home/biocbuild/bbs-3.23-bioc/R/site-library --timings NxtIRFdata_1.17.0.tar.gz StartedAt: 2025-11-18 12:51:18 -0500 (Tue, 18 Nov 2025) EndedAt: 2025-11-18 12:53:05 -0500 (Tue, 18 Nov 2025) EllapsedTime: 107.9 seconds RetCode: 0 Status: OK CheckDir: NxtIRFdata.Rcheck Warnings: 0