Package: NestLink Version: 1.27.0 Command: /home/biocbuild/bbs-3.23-bioc/R/bin/R CMD check --install=check:NestLink.install-out.txt --library=/home/biocbuild/bbs-3.23-bioc/R/site-library --timings NestLink_1.27.0.tar.gz StartedAt: 2025-11-18 12:50:12 -0500 (Tue, 18 Nov 2025) EndedAt: 2025-11-18 13:02:15 -0500 (Tue, 18 Nov 2025) EllapsedTime: 723.6 seconds RetCode: 0 Status: OK CheckDir: NestLink.Rcheck Warnings: 0