Package: MouseThymusAgeing Version: 1.19.0 Command: /home/biocbuild/bbs-3.23-bioc/R/bin/R CMD INSTALL MouseThymusAgeing StartedAt: 2025-11-18 10:59:58 -0500 (Tue, 18 Nov 2025) EndedAt: 2025-11-18 11:00:25 -0500 (Tue, 18 Nov 2025) EllapsedTime: 27.0 seconds RetCode: 0 Status: OK