Package: MouseThymusAgeing Version: 1.19.0 Command: /home/biocbuild/bbs-3.23-bioc/R/bin/R CMD check --install=check:MouseThymusAgeing.install-out.txt --library=/home/biocbuild/bbs-3.23-bioc/R/site-library --timings MouseThymusAgeing_1.19.0.tar.gz StartedAt: 2025-11-18 12:46:27 -0500 (Tue, 18 Nov 2025) EndedAt: 2025-11-18 12:50:14 -0500 (Tue, 18 Nov 2025) EllapsedTime: 226.4 seconds RetCode: 0 Status: OK CheckDir: MouseThymusAgeing.Rcheck Warnings: 0