Package: MicrobiomeBenchmarkData Version: 1.13.0 Command: /home/biocbuild/bbs-3.23-bioc/R/bin/R CMD check --install=check:MicrobiomeBenchmarkData.install-out.txt --library=/home/biocbuild/bbs-3.23-bioc/R/site-library --timings MicrobiomeBenchmarkData_1.13.0.tar.gz StartedAt: 2025-11-18 12:42:23 -0500 (Tue, 18 Nov 2025) EndedAt: 2025-11-18 12:50:32 -0500 (Tue, 18 Nov 2025) EllapsedTime: 489.1 seconds RetCode: 1 Status: ERROR CheckDir: MicrobiomeBenchmarkData.Rcheck Warnings: NA