Package: MerfishData Version: 1.13.0 Command: /home/biocbuild/bbs-3.23-bioc/R/bin/R CMD INSTALL MerfishData StartedAt: 2025-11-20 10:59:30 -0500 (Thu, 20 Nov 2025) EndedAt: 2025-11-20 10:59:56 -0500 (Thu, 20 Nov 2025) EllapsedTime: 26.2 seconds RetCode: 0 Status: OK