Package: MUGAExampleData Version: 1.31.0 Command: /home/biocbuild/bbs-3.23-bioc/R/bin/R CMD check --install=check:MUGAExampleData.install-out.txt --library=/home/biocbuild/bbs-3.23-bioc/R/site-library --timings MUGAExampleData_1.31.0.tar.gz StartedAt: 2025-11-20 12:53:43 -0500 (Thu, 20 Nov 2025) EndedAt: 2025-11-20 12:54:24 -0500 (Thu, 20 Nov 2025) EllapsedTime: 40.6 seconds RetCode: 0 Status: OK CheckDir: MUGAExampleData.Rcheck Warnings: 0