Package: MMDiffBamSubset Version: 1.47.0 Command: /home/biocbuild/bbs-3.23-bioc/R/bin/R CMD check --install=check:MMDiffBamSubset.install-out.txt --library=/home/biocbuild/bbs-3.23-bioc/R/site-library --timings MMDiffBamSubset_1.47.0.tar.gz StartedAt: 2025-11-18 12:45:20 -0500 (Tue, 18 Nov 2025) EndedAt: 2025-11-18 12:46:27 -0500 (Tue, 18 Nov 2025) EllapsedTime: 66.6 seconds RetCode: 0 Status: OK CheckDir: MMDiffBamSubset.Rcheck Warnings: 0