Package: MMDiffBamSubset Version: 1.47.0 Command: /home/biocbuild/bbs-3.23-bioc/R/bin/R CMD build --keep-empty-dirs --no-resave-data MMDiffBamSubset StartedAt: 2025-11-18 11:31:51 -0500 (Tue, 18 Nov 2025) EndedAt: 2025-11-18 11:32:29 -0500 (Tue, 18 Nov 2025) EllapsedTime: 37.8 seconds RetCode: 0 Status: OK PackageFile: MMDiffBamSubset_1.47.0.tar.gz PackageFileSize: 632.3 MiB