Package: MEEBOdata Version: 1.49.0 Command: /home/biocbuild/bbs-3.23-bioc/R/bin/R CMD INSTALL MEEBOdata StartedAt: 2025-11-18 10:55:35 -0500 (Tue, 18 Nov 2025) EndedAt: 2025-11-18 10:55:38 -0500 (Tue, 18 Nov 2025) EllapsedTime: 2.5 seconds RetCode: 0 Status: OK