Package: MEEBOdata Version: 1.49.0 Command: /home/biocbuild/bbs-3.23-bioc/R/bin/R CMD check --install=check:MEEBOdata.install-out.txt --library=/home/biocbuild/bbs-3.23-bioc/R/site-library --timings MEEBOdata_1.49.0.tar.gz StartedAt: 2025-11-18 12:41:31 -0500 (Tue, 18 Nov 2025) EndedAt: 2025-11-18 12:42:01 -0500 (Tue, 18 Nov 2025) EllapsedTime: 29.9 seconds RetCode: 0 Status: WARNINGS CheckDir: MEEBOdata.Rcheck Warnings: 1