Package: MEEBOdata Version: 1.49.0 Command: /home/biocbuild/bbs-3.23-bioc/R/bin/R CMD build --keep-empty-dirs --no-resave-data MEEBOdata StartedAt: 2025-11-18 11:29:59 -0500 (Tue, 18 Nov 2025) EndedAt: 2025-11-18 11:30:02 -0500 (Tue, 18 Nov 2025) EllapsedTime: 3.5 seconds RetCode: 0 Status: OK PackageFile: MEEBOdata_1.49.0.tar.gz PackageFileSize: 6.869 MiB