Package: MAQCsubset Version: 1.49.0 Command: /home/biocbuild/bbs-3.23-bioc/R/bin/R CMD build --keep-empty-dirs --no-resave-data MAQCsubset StartedAt: 2025-11-18 11:29:10 -0500 (Tue, 18 Nov 2025) EndedAt: 2025-11-18 11:30:35 -0500 (Tue, 18 Nov 2025) EllapsedTime: 85.2 seconds RetCode: 0 Status: OK PackageFile: MAQCsubset_1.49.0.tar.gz PackageFileSize: 64.89 MiB