Package: MACSdata Version: 1.19.0 Command: /home/biocbuild/bbs-3.23-bioc/R/bin/R CMD build --keep-empty-dirs --no-resave-data MACSdata StartedAt: 2025-11-18 11:28:38 -0500 (Tue, 18 Nov 2025) EndedAt: 2025-11-18 11:28:39 -0500 (Tue, 18 Nov 2025) EllapsedTime: 1.0 seconds RetCode: 0 Status: OK PackageFile: MACSdata_1.19.0.tar.gz PackageFileSize: 2.723 KiB