Package: LegATo Version: 1.5.0 Command: /home/biocbuild/bbs-3.23-bioc/R/bin/R CMD check --install=check:LegATo.install-out.txt --library=/home/biocbuild/bbs-3.23-bioc/R/site-library --timings LegATo_1.5.0.tar.gz StartedAt: 2025-11-13 12:37:25 -0500 (Thu, 13 Nov 2025) EndedAt: 2025-11-13 12:42:01 -0500 (Thu, 13 Nov 2025) EllapsedTime: 276.3 seconds RetCode: 0 Status: OK CheckDir: LegATo.Rcheck Warnings: 0