Package: LegATo Version: 1.5.0 Command: /home/biocbuild/bbs-3.23-bioc/R/bin/R CMD build --keep-empty-dirs --no-resave-data LegATo StartedAt: 2025-11-18 11:26:59 -0500 (Tue, 18 Nov 2025) EndedAt: 2025-11-18 11:28:36 -0500 (Tue, 18 Nov 2025) EllapsedTime: 97.0 seconds RetCode: 0 Status: OK PackageFile: LegATo_1.5.0.tar.gz PackageFileSize: 1.235 MiB