Package: JASPAR2016 Version: 1.39.0 Command: /home/biocbuild/bbs-3.23-bioc/R/bin/R CMD INSTALL JASPAR2016 StartedAt: 2025-11-18 10:56:00 -0500 (Tue, 18 Nov 2025) EndedAt: 2025-11-18 10:56:03 -0500 (Tue, 18 Nov 2025) EllapsedTime: 3.1 seconds RetCode: 0 Status: OK