Package: Iyer517 Version: 1.53.0 Command: /home/biocbuild/bbs-3.23-bioc/R/bin/R CMD check --install=check:Iyer517.install-out.txt --library=/home/biocbuild/bbs-3.23-bioc/R/site-library --timings Iyer517_1.53.0.tar.gz StartedAt: 2025-11-18 12:36:14 -0500 (Tue, 18 Nov 2025) EndedAt: 2025-11-18 12:37:03 -0500 (Tue, 18 Nov 2025) EllapsedTime: 49.3 seconds RetCode: 0 Status: OK CheckDir: Iyer517.Rcheck Warnings: 0