Package: IlluminaDataTestFiles Version: 1.49.0 Command: /home/biocbuild/bbs-3.23-bioc/R/bin/R CMD build --keep-empty-dirs --no-resave-data IlluminaDataTestFiles StartedAt: 2025-11-18 11:25:42 -0500 (Tue, 18 Nov 2025) EndedAt: 2025-11-18 11:25:45 -0500 (Tue, 18 Nov 2025) EllapsedTime: 2.9 seconds RetCode: 0 Status: OK PackageFile: IlluminaDataTestFiles_1.49.0.tar.gz PackageFileSize: 23.69 MiB