Package: HighlyReplicatedRNASeq Version: 1.23.0 Command: /home/biocbuild/bbs-3.23-bioc/R/bin/R CMD INSTALL HighlyReplicatedRNASeq StartedAt: 2025-11-18 11:00:09 -0500 (Tue, 18 Nov 2025) EndedAt: 2025-11-18 11:00:35 -0500 (Tue, 18 Nov 2025) EllapsedTime: 25.8 seconds RetCode: 0 Status: OK