Package: HiBED Version: 1.9.0 Command: /home/biocbuild/bbs-3.23-bioc/R/bin/R CMD INSTALL HiBED StartedAt: 2025-11-18 11:03:41 -0500 (Tue, 18 Nov 2025) EndedAt: 2025-11-18 11:04:23 -0500 (Tue, 18 Nov 2025) EllapsedTime: 42.6 seconds RetCode: 0 Status: OK