Package: HSMMSingleCell Version: 1.31.0 Command: /home/biocbuild/bbs-3.23-bioc/R/bin/R CMD check --install=check:HSMMSingleCell.install-out.txt --library=/home/biocbuild/bbs-3.23-bioc/R/site-library --timings HSMMSingleCell_1.31.0.tar.gz StartedAt: 2025-11-18 12:34:03 -0500 (Tue, 18 Nov 2025) EndedAt: 2025-11-18 12:35:10 -0500 (Tue, 18 Nov 2025) EllapsedTime: 67.3 seconds RetCode: 0 Status: WARNINGS CheckDir: HSMMSingleCell.Rcheck Warnings: 3