Package: HMP16SData Version: 1.31.0 Command: /home/biocbuild/bbs-3.23-bioc/R/bin/R CMD INSTALL HMP16SData StartedAt: 2025-11-18 10:58:23 -0500 (Tue, 18 Nov 2025) EndedAt: 2025-11-18 10:58:54 -0500 (Tue, 18 Nov 2025) EllapsedTime: 31.4 seconds RetCode: 0 Status: OK