Package: HIVcDNAvantWout03 Version: 1.51.0 Command: /home/biocbuild/bbs-3.23-bioc/R/bin/R CMD build --keep-empty-dirs --no-resave-data HIVcDNAvantWout03 StartedAt: 2025-11-18 11:24:50 -0500 (Tue, 18 Nov 2025) EndedAt: 2025-11-18 11:24:56 -0500 (Tue, 18 Nov 2025) EllapsedTime: 5.4 seconds RetCode: 0 Status: OK PackageFile: HIVcDNAvantWout03_1.51.0.tar.gz PackageFileSize: 1.711 MiB