Package: HDCytoData Version: 1.31.0 Command: /home/biocbuild/bbs-3.23-bioc/R/bin/R CMD check --install=check:HDCytoData.install-out.txt --library=/home/biocbuild/bbs-3.23-bioc/R/site-library --timings HDCytoData_1.31.0.tar.gz StartedAt: 2025-11-18 12:30:20 -0500 (Tue, 18 Nov 2025) EndedAt: 2025-11-18 12:36:27 -0500 (Tue, 18 Nov 2025) EllapsedTime: 366.7 seconds RetCode: 0 Status: OK CheckDir: HDCytoData.Rcheck Warnings: 0