Package: HDCytoData Version: 1.31.0 Command: /home/biocbuild/bbs-3.23-bioc/R/bin/R CMD build --keep-empty-dirs --no-resave-data HDCytoData StartedAt: 2025-11-18 11:23:22 -0500 (Tue, 18 Nov 2025) EndedAt: 2025-11-18 11:25:34 -0500 (Tue, 18 Nov 2025) EllapsedTime: 131.4 seconds RetCode: 0 Status: OK PackageFile: HDCytoData_1.31.0.tar.gz PackageFileSize: 1.543 MiB