Package: GenomicDistributionsData Version: 1.19.0 Command: /home/biocbuild/bbs-3.23-bioc/R/bin/R CMD INSTALL GenomicDistributionsData StartedAt: 2025-11-18 11:01:04 -0500 (Tue, 18 Nov 2025) EndedAt: 2025-11-18 11:01:40 -0500 (Tue, 18 Nov 2025) EllapsedTime: 35.9 seconds RetCode: 0 Status: OK