Package: GSVAdata Version: 1.47.1 Command: /home/biocbuild/bbs-3.23-bioc/R/bin/R CMD check --install=check:GSVAdata.install-out.txt --library=/home/biocbuild/bbs-3.23-bioc/R/site-library --timings GSVAdata_1.47.1.tar.gz StartedAt: 2025-11-20 12:34:54 -0500 (Thu, 20 Nov 2025) EndedAt: 2025-11-20 12:36:35 -0500 (Thu, 20 Nov 2025) EllapsedTime: 101.1 seconds RetCode: 0 Status: OK CheckDir: GSVAdata.Rcheck Warnings: 0