Package: GSE62944 Version: 1.39.0 Command: /home/biocbuild/bbs-3.23-bioc/R/bin/R CMD check --install=check:GSE62944.install-out.txt --library=/home/biocbuild/bbs-3.23-bioc/R/site-library --timings GSE62944_1.39.0.tar.gz StartedAt: 2025-11-13 12:27:38 -0500 (Thu, 13 Nov 2025) EndedAt: 2025-11-13 12:30:06 -0500 (Thu, 13 Nov 2025) EllapsedTime: 147.6 seconds RetCode: 0 Status: OK CheckDir: GSE62944.Rcheck Warnings: 0