Package: GSE62944 Version: 1.39.0 Command: /home/biocbuild/bbs-3.23-bioc/R/bin/R CMD build --keep-empty-dirs --no-resave-data GSE62944 StartedAt: 2025-11-13 11:20:47 -0500 (Thu, 13 Nov 2025) EndedAt: 2025-11-13 11:22:09 -0500 (Thu, 13 Nov 2025) EllapsedTime: 82.5 seconds RetCode: 0 Status: OK PackageFile: GSE62944_1.39.0.tar.gz PackageFileSize: 221.1 KiB