Package: GSE13015 Version: 1.19.0 Command: /home/biocbuild/bbs-3.23-bioc/R/bin/R CMD INSTALL GSE13015 StartedAt: 2025-11-18 10:58:46 -0500 (Tue, 18 Nov 2025) EndedAt: 2025-11-18 10:59:01 -0500 (Tue, 18 Nov 2025) EllapsedTime: 15.1 seconds RetCode: 0 Status: OK