Package: GSE103322 Version: 1.17.0 Command: /home/biocbuild/bbs-3.23-bioc/R/bin/R CMD INSTALL GSE103322 StartedAt: 2025-11-13 10:58:43 -0500 (Thu, 13 Nov 2025) EndedAt: 2025-11-13 10:58:58 -0500 (Thu, 13 Nov 2025) EllapsedTime: 15.4 seconds RetCode: 0 Status: OK